Workbook

Sheet READ ME FIRST
A1: Credits:
A2: Kahoot! for the question upload template and VLETools for the text-to-XML tool
A4: Instructions:
A5: The purpose of this file is to allow you to enter a set of multiple choice questions which you can then upload to both Kahoot and Moodle (or other online assessment platforms that recognize the Moodle XML format).
A7: 1) Click on the "Kahoot" tab and enter your questions following the examples provided.
A8: 2) The "Moodle" tab will automatically populate with your entries.
A9: 3) Click on the "Moodle" tab and select Column A. Only select the items--don't copy the "0" items at the bottom.
A10: 4) Go to http://www.vletools.com/converter/quiz (unfortunately this requires Facebook login)
A11: 5) Paste in the "paste here" box
A12: 6) Under "Parser options" select "1. 2. 3."
A13: 7) Download XML
A14: 8) Import to your online assessment site. The file format will be Moodle XML.

Sheet Kahoot
B2: Quiz template
B3: Add questions, at least two answer alternatives, time limit and choose correct answers (at least one). Have fun creating your awesome quiz!
B4: Remember: questions have a limit of 95 characters and answers can have 60 characters max. Text will turn red in Excel or Google Docs if you exceed this limit. If several answers are correct, separate them with a comma.
B5: See an example question below (don't forget to overwrite this with your first question!)
B6: And remember, if you're not using Excel you need to export to .xlsx format before you upload to Kahoot!
B8: Question - max 95 characters | C8: Answer 1 - max 60 characters | D8: Answer 2 - max 60 characters | E8: Answer 3 - max 60 characters | F8: Answer 4 - max 60 characters | G8: Time limit (sec) - 5,10,20,30,60,90 or 120 secs | H8: Correct answer(s) - choose at least one
A9: 1 | B9: First question? | C9: correct answer | D9: wrong answer | E9: wrong answer | F9: wrong answer | G9: 20 | H9: 1
A10: 2 | B10: Second question? | C10: wrong answer | D10: correct answer | E10: wrong answer | F10: wrong answer | G10: 20 | H10: 2
A11: 3
A12: 4
A13: 5
A14: 6
A15: 7
A16: 8
A17: 9
A18: 10
A19: 11
A20: 12
A21: 13
A22: 14
... A108: 100

Sheet Moodle
A1: multichoice
A3: =Kahoot!B9 -> First question?
A4: ="1. "&Kahoot!C9 -> 1. correct answer
A5: ="2. "&Kahoot!D9 -> 2. wrong answer
A6: ="3. "&Kahoot!E9 -> 3. wrong answer
A7: ="4. "&Kahoot!F9 -> 4. wrong answer
A8: ="Answer: "&Kahoot!H9 -> Answer: 1
A10: =Kahoot!B10 -> Second question?
A11: ="1. "&Kahoot!C10 -> 1. wrong answer
A12: ="2. "&Kahoot!D10 -> 2. correct answer
A13: ="3. "&Kahoot!E10 -> 3. wrong answer
A14: ="4. "&Kahoot!F10 -> 4. wrong answer
A15: ="Answer: "&Kahoot!H10 -> Answer: 2
A17: =Kahoot!B11 -> 0
A18: ="1. "&Kahoot!C11 -> 1.
A19: ="2. "&Kahoot!D11 -> 2.
A20: ="3. "&Kahoot!E11 -> 3.
A21: ="4. "&Kahoot!F11 -> 4.
A22: ="Answer: "&Kahoot!H11 -> Answer:
A24: =Kahoot!B12 -> 0
A25: ="1. "&Kahoot!C12 -> 1.
A26: ="2. "&Kahoot!D12 -> 2.
A27: ="3. "&Kahoot!E12 -> 3.
A28: ="4. "&Kahoot!F12 -> 4.
A29: ="Answer: "&Kahoot!H12 -> Answer:
A31: =Kahoot!B13 -> 0
A32: ="1. "&Kahoot!C13 -> 1.
A33: ="2. "&Kahoot!D13 -> 2.
A34: ="3. "&Kahoot!E13 -> 3.
A35: ="4. "&Kahoot!F13 -> 4.
A36: ="Answer: "&Kahoot!H13 -> Answer:
A38: =Kahoot!B14 -> 0
A39: ="1. "&Kahoot!C14 -> 1.
A40: ="2. "&Kahoot!D14 -> 2.
A41: ="3. "&Kahoot!E14 -> 3.
A42: ="4. "&Kahoot!F14 -> 4.
A43: ="Answer: "&Kahoot!H14 -> Answer:
A45: =Kahoot!B15 -> 0
A46: ="1. "&Kahoot!C15 -> 1.
A47: ="2. "&Kahoot!D15 -> 2.
A48: ="3. "&Kahoot!E15 -> 3.
A49: ="4. "&Kahoot!F15 -> 4.
A50: ="Answer: "&Kahoot!H15 -> Answer:
A52: =Kahoot!B16 -> 0
A53: ="1. "&Kahoot!C16 -> 1.
A54: ="2. "&Kahoot!D16 -> 2.
A55: ="3. "&Kahoot!E16 -> 3.
A56: ="4. "&Kahoot!F16 -> 4.
A57: ="Answer: "&Kahoot!H16 -> Answer:
A59: =Kahoot!B17 -> 0
A60: ="1. "&Kahoot!C17 -> 1.
A61: ="2. "&Kahoot!D17 -> 2.
A62: ="3. "&Kahoot!E17 -> 3.
A63: ="4. "&Kahoot!F17 -> 4.
A64: ="Answer: "&Kahoot!H17 -> Answer:
A66: =Kahoot!B18 -> 0
A67: ="1. "&Kahoot!C18 -> 1.
A68: ="2. "&Kahoot!D18 -> 2.
A69: ="3. "&Kahoot!E18 -> 3.
A70: ="4. "&Kahoot!F18 -> 4.
A71: ="Answer: "&Kahoot!H18 -> Answer:
A73: =Kahoot!B19 -> 0
A74: ="1. "&Kahoot!C19 -> 1.
A75: ="2. "&Kahoot!D19 -> 2.
A76: ="3. "&Kahoot!E19 -> 3.
A77: ="4. "&Kahoot!F19 -> 4.
A78: ="Answer: "&Kahoot!H19 -> Answer:
A80: =Kahoot!B20 -> 0
A81: ="1. "&Kahoot!C20 -> 1.
A82: ="2. "&Kahoot!D20 -> 2.
A83: ="3. "&Kahoot!E20 -> 3.
A84: ="4. "&Kahoot!F20 -> 4.
A85: ="Answer: "&Kahoot!H20 -> Answer:
A87: =Kahoot!B21 -> 0
A88: ="1. "&Kahoot!C21 -> 1.
A89: ="2. "&Kahoot!D21 -> 2.
A90: ="3. "&Kahoot!E21 -> 3.
A91: ="4. "&Kahoot!F21 -> 4.
A92: ="Answer: "&Kahoot!H21 -> Answer:
A94: =Kahoot!B22 -> 0
A95: ="1. "&Kahoot!C22 -> 1.
A96: ="2. "&Kahoot!D22 -> 2.
A97: ="3. "&Kahoot!E22 -> 3.
A98: ="4. "&Kahoot!F22 -> 4.
A99: ="Answer: "&Kahoot!H22 -> Answer:
A101: =Kahoot!B23 -> 0
A102: ="1. "&Kahoot!C23 -> 1.
A103: ="2. "&Kahoot!D23 -> 2.
A104: ="3. "&Kahoot!E23 -> 3.
A105: ="4. "&Kahoot!F23 -> 4.
A106: ="Answer: "&Kahoot!H23 -> Answer:
A108: =Kahoot!B24 -> 0
A109: ="1. "&Kahoot!C24 -> 1.
A110: ="2. "&Kahoot!D24 -> 2.
A111: ="3. "&Kahoot!E24 -> 3.
A112: ="4. "&Kahoot!F24 -> 4.
A113: ="Answer: "&Kahoot!H24 -> Answer:
A115: =Kahoot!B25 -> 0
A116: ="1. "&Kahoot!C25 -> 1.
A117: ="2. "&Kahoot!D25 -> 2.
...
